BEGIN:VCALENDAR
VERSION:2.0
PRODID:-//United Against Poverty - ECPv6.15.20//NONSGML v1.0//EN
CALSCALE:GREGORIAN
METHOD:PUBLISH
X-WR-CALNAME:United Against Poverty
X-ORIGINAL-URL:https://unitedagainstpoverty.org
X-WR-CALDESC:Events for United Against Poverty
REFRESH-INTERVAL;VALUE=DURATION:PT1H
X-Robots-Tag:noindex
X-PUBLISHED-TTL:PT1H
BEGIN:VTIMEZONE
TZID:America/New_York
BEGIN:DAYLIGHT
TZOFFSETFROM:-0500
TZOFFSETTO:-0400
TZNAME:EDT
DTSTART:20230312T070000
END:DAYLIGHT
BEGIN:STANDARD
TZOFFSETFROM:-0400
TZOFFSETTO:-0500
TZNAME:EST
DTSTART:20231105T060000
END:STANDARD
BEGIN:DAYLIGHT
TZOFFSETFROM:-0500
TZOFFSETTO:-0400
TZNAME:EDT
DTSTART:20240310T070000
END:DAYLIGHT
BEGIN:STANDARD
TZOFFSETFROM:-0400
TZOFFSETTO:-0500
TZNAME:EST
DTSTART:20241103T060000
END:STANDARD
BEGIN:DAYLIGHT
TZOFFSETFROM:-0500
TZOFFSETTO:-0400
TZNAME:EDT
DTSTART:20250309T070000
END:DAYLIGHT
BEGIN:STANDARD
TZOFFSETFROM:-0400
TZOFFSETTO:-0500
TZNAME:EST
DTSTART:20251102T060000
END:STANDARD
BEGIN:DAYLIGHT
TZOFFSETFROM:-0500
TZOFFSETTO:-0400
TZNAME:EDT
DTSTART:20260308T070000
END:DAYLIGHT
BEGIN:STANDARD
TZOFFSETFROM:-0400
TZOFFSETTO:-0500
TZNAME:EST
DTSTART:20261101T060000
END:STANDARD
BEGIN:DAYLIGHT
TZOFFSETFROM:-0500
TZOFFSETTO:-0400
TZNAME:EDT
DTSTART:20270314T070000
END:DAYLIGHT
BEGIN:STANDARD
TZOFFSETFROM:-0400
TZOFFSETTO:-0500
TZNAME:EST
DTSTART:20271107T060000
END:STANDARD
END:VTIMEZONE
BEGIN:VEVENT
DTSTART;VALUE=DATE:20240802
DTEND;VALUE=DATE:20240803
DTSTAMP:20260421T051143
CREATED:20240313T233138Z
LAST-MODIFIED:20241219T153200Z
UID:10000270-1722556800-1722643199@unitedagainstpoverty.org
SUMMARY:Hand UP Luncheon
DESCRIPTION:On Friday\, August 2nd\, join us for our most important fundraising event of the year\, UP St. Lucie’s Annual Hand UP Luncheon.  This is an opportunity for you to make an impact on the families we serve in St. Lucie County.  A program filled with must hear success stories and more.  Silent auction and lunch served.
URL:https://unitedagainstpoverty.org/event/hand-up-luncheon/
ATTACH;FMTTYPE=image/jpeg:https://unitedagainstpoverty.org/wp-content/uploads/2024/03/Hand-UP-logo-2022.jpg
END:VEVENT
BEGIN:VEVENT
DTSTART;VALUE=DATE:20241002
DTEND;VALUE=DATE:20241003
DTSTAMP:20260421T051143
CREATED:20240320T162201Z
LAST-MODIFIED:20240401T221922Z
UID:10000272-1727827200-1727913599@unitedagainstpoverty.org
SUMMARY:Hand UP Luncheon\, Orlando
DESCRIPTION:Annual event held in October with more than 400 major donors\, volunteers\, and community partners coming together for awareness and raising money for the cause.
URL:https://unitedagainstpoverty.org/event/hand-up/
ATTACH;FMTTYPE=image/jpeg:https://unitedagainstpoverty.org/wp-content/uploads/2024/03/Hand-UP-logo-2022.jpg
END:VEVENT
BEGIN:VEVENT
DTSTART;TZID=America/New_York:20241115T180000
DTEND;TZID=America/New_York:20241115T213000
DTSTAMP:20260421T051143
CREATED:20240925T202736Z
LAST-MODIFIED:20241219T153201Z
UID:10000275-1731693600-1731706200@unitedagainstpoverty.org
SUMMARY:Lifting UP Lives Celebration
DESCRIPTION:Join us for a Night of Hope! United Against Poverty St. Lucie will be hosting their 1st annual Lifting UP Lives Celebration at the Island Club on November 15\, 2024. This fundraising event benefits the transformative programs at UP St. Lucie. The event will feature live and silent auctions\, cocktails\, and dinner. \nTicket Prices: $125 Per Person or $200 Per Couple \nPlease visit https://secure.qgiv.com/event/2024liftinguplivescelebration/ to purchase tickets or make a donation.
URL:https://unitedagainstpoverty.org/event/lifting-up-lives-celebration/
ATTACH;FMTTYPE=image/jpeg:https://unitedagainstpoverty.org/wp-content/uploads/2024/04/Night_Of_Hope.jpg
END:VEVENT
BEGIN:VEVENT
DTSTART;TZID=America/New_York:20241128T060000
DTEND;TZID=America/New_York:20241128T081500
DTSTAMP:20260421T051143
CREATED:20240313T230434Z
LAST-MODIFIED:20240401T222136Z
UID:10000267-1732773600-1732781700@unitedagainstpoverty.org
SUMMARY:Trot Against Poverty
DESCRIPTION:Join us for this Thanksgiving Day community tradition featuring a 5k sanctioned race/walk\, a ¼ mile kids race\, and a free sweet potato pancake and sausage breakfast. This is a professionally timed race for runners\, joggers\, walkers\, and trotters of all ages and abilities.
URL:https://unitedagainstpoverty.org/event/trot-against-poverty/
ATTACH;FMTTYPE=image/jpeg:https://unitedagainstpoverty.org/wp-content/uploads/2024/03/Trot-Event.jpg
END:VEVENT
BEGIN:VEVENT
DTSTART;TZID=America/New_York:20250308T180000
DTEND;TZID=America/New_York:20250308T220000
DTSTAMP:20260421T051143
CREATED:20250124T183950Z
LAST-MODIFIED:20250313T203428Z
UID:10000280-1741456800-1741471200@unitedagainstpoverty.org
SUMMARY:High Roller Casino Night: 007 Casino Royale
DESCRIPTION:Join our high roller casino event. Step into the world of James Bond at our sleek and sophisticated Casino Royale event. Dress to impress\, sip on martinis\, and test your luck at classic casino games like blackjack\, roulette\, and poker. Enjoy live entertainment\, Bond-worthy photo ops with a sleek Piper Aircraft plane\, and exclusive experiences like our VIP cigar lounge. Secure your ticket now for an unforgettable night of glamour and intrigue!
URL:https://unitedagainstpoverty.org/event/high-roller-casino-night-007-casino-royale/
LOCATION:Piper Aircraft\, 2800 Aviation Blvd\, Vero Beach\, FL\, 32960
END:VEVENT
BEGIN:VEVENT
DTSTART;TZID=America/New_York:20250321T110000
DTEND;TZID=America/New_York:20250321T130000
DTSTAMP:20260421T051143
CREATED:20250219T195007Z
LAST-MODIFIED:20250219T195617Z
UID:10000281-1742554800-1742562000@unitedagainstpoverty.org
SUMMARY:4th Annual Community Resource Fair
DESCRIPTION:
URL:https://unitedagainstpoverty.org/event/4th-annual-community-resource-fair/
LOCATION:UP Center\, 1400 27th Street\, Vero Beach Florida\, 32960\, United States
END:VEVENT
BEGIN:VEVENT
DTSTART;VALUE=DATE:20250329
DTEND;VALUE=DATE:20250330
DTSTAMP:20260421T051143
CREATED:20250114T003053Z
LAST-MODIFIED:20250324T155904Z
UID:10000269-1743206400-1743292799@unitedagainstpoverty.org
SUMMARY:Fool’s Day 5K
DESCRIPTION:Join us for our Annual Fools Day 5K! Run\, jog\, or walk your way through an unforgettable 3.1-mile course filled with fun surprises. All proceeds go toward lifting the lives of those in the St. Lucie community.
URL:https://unitedagainstpoverty.org/event/fools-day-5k/
LOCATION:Causeway Cove Marina\, 601 Seaway Drive\, Fort Pierce\, FL\, 34949
CATEGORIES:#stlucie
ATTACH;FMTTYPE=image/jpeg:https://unitedagainstpoverty.org/wp-content/uploads/2024/03/FoolsDay2025.jpg
END:VEVENT
BEGIN:VEVENT
DTSTART;TZID=America/New_York:20251120T080000
DTEND;TZID=America/New_York:20251126T000000
DTSTAMP:20260421T051143
CREATED:20251120T170758Z
LAST-MODIFIED:20260112T171222Z
UID:10000282-1763625600-1764115200@unitedagainstpoverty.org
SUMMARY:Holiday Dash Auction
DESCRIPTION:The holiday season is quickly approaching! Our Holiday Dash Auction is currently open now until next Wednesday\, November 26th at 12:00 AM! This is a wonderful opportunity to make your gift giving even more meaningful this year while supporting the mission of United Against Poverty. Don’t let this opportunity pass you by\, register and start bidding now before these items dash away! \nIf you’re feeling a bit of extra holiday cheer\, we invite you to click the Donate button and help us continue making a positive impact in our community!
URL:https://unitedagainstpoverty.org/event/holiday-dash-auction/
CATEGORIES:#stlucie
ATTACH;FMTTYPE=image/png:https://unitedagainstpoverty.org/wp-content/uploads/2025/11/Holiday-Dash.png
END:VEVENT
BEGIN:VEVENT
DTSTART;TZID=America/New_York:20260207T180000
DTEND;TZID=America/New_York:20260207T200000
DTSTAMP:20260421T051143
CREATED:20250113T000536Z
LAST-MODIFIED:20250721T125302Z
UID:10000268-1770487200-1770494400@unitedagainstpoverty.org
SUMMARY:Valentine Ball
DESCRIPTION:Feel the romance in the air as we eagerly await United Against Poverty’s Valentine Ball. This cherished yearly event is dedicated to supporting the life-changing initiatives of United Against Poverty of Indian River County. Join us for an enchanting evening filled with cocktails\, captivating auctions\, a delightful dinner\, and dancing. Stay tuned for more information on the 2026 Valentine Ball!
URL:https://unitedagainstpoverty.org/event/valentine-ball/
LOCATION:Oak Harbor Club\, 4755 S. Harbor Drive\, Vero Beach\, FL\, 32960
ATTACH;FMTTYPE=image/jpeg:https://unitedagainstpoverty.org/wp-content/uploads/2024/03/Galai-irc-2024.jpg
END:VEVENT
END:VCALENDAR