BEGIN:VCALENDAR
VERSION:2.0
PRODID:-//United Against Poverty - ECPv6.15.20//NONSGML v1.0//EN
CALSCALE:GREGORIAN
METHOD:PUBLISH
X-WR-CALNAME:United Against Poverty
X-ORIGINAL-URL:https://unitedagainstpoverty.org
X-WR-CALDESC:Events for United Against Poverty
REFRESH-INTERVAL;VALUE=DURATION:PT1H
X-Robots-Tag:noindex
X-PUBLISHED-TTL:PT1H
BEGIN:VTIMEZONE
TZID:America/New_York
BEGIN:DAYLIGHT
TZOFFSETFROM:-0500
TZOFFSETTO:-0400
TZNAME:EDT
DTSTART:20230312T070000
END:DAYLIGHT
BEGIN:STANDARD
TZOFFSETFROM:-0400
TZOFFSETTO:-0500
TZNAME:EST
DTSTART:20231105T060000
END:STANDARD
BEGIN:DAYLIGHT
TZOFFSETFROM:-0500
TZOFFSETTO:-0400
TZNAME:EDT
DTSTART:20240310T070000
END:DAYLIGHT
BEGIN:STANDARD
TZOFFSETFROM:-0400
TZOFFSETTO:-0500
TZNAME:EST
DTSTART:20241103T060000
END:STANDARD
BEGIN:DAYLIGHT
TZOFFSETFROM:-0500
TZOFFSETTO:-0400
TZNAME:EDT
DTSTART:20250309T070000
END:DAYLIGHT
BEGIN:STANDARD
TZOFFSETFROM:-0400
TZOFFSETTO:-0500
TZNAME:EST
DTSTART:20251102T060000
END:STANDARD
END:VTIMEZONE
BEGIN:VEVENT
DTSTART;TZID=America/New_York:20240628T110000
DTEND;TZID=America/New_York:20240628T160000
DTSTAMP:20260421T061139
CREATED:20250302T000214Z
LAST-MODIFIED:20250324T185016Z
UID:10000266-1719572400-1719590400@unitedagainstpoverty.org
SUMMARY:Burgers & Brews
DESCRIPTION:Burgers & Brews! Don’t miss out on the ultimate food and drink experience at the 10th Annual Burgers & Brews Festival! Join us for a day of excitement\, flavor\, and fun under the Oak trees at Riverside Park\, presented by United Against Poverty.
URL:https://unitedagainstpoverty.org/event/burgers-brews/
LOCATION:Oaks Area at Riverside Park\, 3280 Riverside Park Dr\, Vero\, FL\, 32963\, United States
ATTACH;FMTTYPE=image/png:https://unitedagainstpoverty.org/wp-content/uploads/2024/03/BB_Image_Website-2.png
END:VEVENT
END:VCALENDAR